BEGIN:VCALENDAR
VERSION:2.0
PRODID:-//Joliet Township - ECPv6.15.20//NONSGML v1.0//EN
CALSCALE:GREGORIAN
METHOD:PUBLISH
X-WR-CALNAME:Joliet Township
X-ORIGINAL-URL:https://www.joliettownship.net
X-WR-CALDESC:Events for Joliet Township
REFRESH-INTERVAL;VALUE=DURATION:PT1H
X-Robots-Tag:noindex
X-PUBLISHED-TTL:PT1H
BEGIN:VTIMEZONE
TZID:America/Chicago
BEGIN:DAYLIGHT
TZOFFSETFROM:-0600
TZOFFSETTO:-0500
TZNAME:CDT
DTSTART:20230312T080000
END:DAYLIGHT
BEGIN:STANDARD
TZOFFSETFROM:-0500
TZOFFSETTO:-0600
TZNAME:CST
DTSTART:20231105T070000
END:STANDARD
BEGIN:DAYLIGHT
TZOFFSETFROM:-0600
TZOFFSETTO:-0500
TZNAME:CDT
DTSTART:20240310T080000
END:DAYLIGHT
BEGIN:STANDARD
TZOFFSETFROM:-0500
TZOFFSETTO:-0600
TZNAME:CST
DTSTART:20241103T070000
END:STANDARD
BEGIN:DAYLIGHT
TZOFFSETFROM:-0600
TZOFFSETTO:-0500
TZNAME:CDT
DTSTART:20250309T080000
END:DAYLIGHT
BEGIN:STANDARD
TZOFFSETFROM:-0500
TZOFFSETTO:-0600
TZNAME:CST
DTSTART:20251102T070000
END:STANDARD
END:VTIMEZONE
BEGIN:VEVENT
DTSTART;TZID=America/Chicago:20241120T130000
DTEND;TZID=America/Chicago:20241120T140000
DTSTAMP:20260424T073052
CREATED:20241107T194927Z
LAST-MODIFIED:20241112T154336Z
UID:8868-1732107600-1732111200@www.joliettownship.net
SUMMARY:REIAL Monthly Meeting - November 20\, 2024
DESCRIPTION:The Racial Equity Impact Assessment League (REIAL) will hold its next virtual meeting on November 20\, at 1:00 PM via Zoom. REIAL is a league of community leaders and elected officials that meets monthly to align violence prevention resources and activities. This meeting will provide an opportunity to discuss updates\, collaborate on initiatives\, and promote equity and inclusion across the community. \nMeetings take place on the second Wednesday of each month. If your organization is interested in joining\, please RSVP by contacting LeShae Hudson\, Violence Prevention Council Coordinator\, at lhudson@joliettownship.net. You can join the meeting using the following link: Join via Zoom. \nFor more information\, visit the REIAL Website.
URL:https://www.joliettownship.net/event/reial-monthly-meeting-november-20-2024/
ATTACH;FMTTYPE=image/png:https://www.joliettownship.net/wp-content/uploads/2024/09/REIAL-Monthly-Meeting-Web-Banner-e1727709184519.png
END:VEVENT
END:VCALENDAR