BEGIN:VCALENDAR
VERSION:2.0
PRODID:-//Joliet Township - ECPv6.15.20//NONSGML v1.0//EN
CALSCALE:GREGORIAN
METHOD:PUBLISH
X-WR-CALNAME:Joliet Township
X-ORIGINAL-URL:https://www.joliettownship.net
X-WR-CALDESC:Events for Joliet Township
REFRESH-INTERVAL;VALUE=DURATION:PT1H
X-Robots-Tag:noindex
X-PUBLISHED-TTL:PT1H
BEGIN:VTIMEZONE
TZID:America/Chicago
BEGIN:DAYLIGHT
TZOFFSETFROM:-0600
TZOFFSETTO:-0500
TZNAME:CDT
DTSTART:20210314T080000
END:DAYLIGHT
BEGIN:STANDARD
TZOFFSETFROM:-0500
TZOFFSETTO:-0600
TZNAME:CST
DTSTART:20211107T070000
END:STANDARD
BEGIN:DAYLIGHT
TZOFFSETFROM:-0600
TZOFFSETTO:-0500
TZNAME:CDT
DTSTART:20220313T080000
END:DAYLIGHT
BEGIN:STANDARD
TZOFFSETFROM:-0500
TZOFFSETTO:-0600
TZNAME:CST
DTSTART:20221106T070000
END:STANDARD
BEGIN:DAYLIGHT
TZOFFSETFROM:-0600
TZOFFSETTO:-0500
TZNAME:CDT
DTSTART:20230312T080000
END:DAYLIGHT
BEGIN:STANDARD
TZOFFSETFROM:-0500
TZOFFSETTO:-0600
TZNAME:CST
DTSTART:20231105T070000
END:STANDARD
BEGIN:DAYLIGHT
TZOFFSETFROM:-0600
TZOFFSETTO:-0500
TZNAME:CDT
DTSTART:20240310T080000
END:DAYLIGHT
BEGIN:STANDARD
TZOFFSETFROM:-0500
TZOFFSETTO:-0600
TZNAME:CST
DTSTART:20241103T070000
END:STANDARD
END:VTIMEZONE
BEGIN:VEVENT
DTSTART;TZID=America/Chicago:20230912T170000
DTEND;TZID=America/Chicago:20230912T170000
DTSTAMP:20260421T004420
CREATED:20221230T161352Z
LAST-MODIFIED:20221230T161352Z
UID:4270-1694538000-1694538000@www.joliettownship.net
SUMMARY:Town Board Meeting
DESCRIPTION:The regular scheduled town board meetings for Joliet Township Government are held at 5:00 p.m. in the town hall meeting room\, Joliet Township Government Offices\, 175 W. Jefferson Street\, Joliet\, Illinois.
URL:https://www.joliettownship.net/event/town-board-meeting-9/
LOCATION:Joliet Township\, 175 W Jefferson St.\, Joliet\, IL\, 60432\, United States
CATEGORIES:Board Meeting
ATTACH;FMTTYPE=image/jpeg:https://www.joliettownship.net/wp-content/uploads/2022/12/town-hall.jpg
END:VEVENT
BEGIN:VEVENT
DTSTART;VALUE=DATE:20230904
DTEND;VALUE=DATE:20230905
DTSTAMP:20260421T004420
CREATED:20221230T164523Z
LAST-MODIFIED:20221230T164523Z
UID:4293-1693785600-1693871999@www.joliettownship.net
SUMMARY:Holiday Closing
DESCRIPTION:Labor Day \nMonday\, September 4\, 2023
URL:https://www.joliettownship.net/event/holiday-closing-8/
CATEGORIES:Holiday
ATTACH;FMTTYPE=image/png:https://www.joliettownship.net/wp-content/uploads/2022/12/elegant-blue-islamic-ornament-announcement-closed-store-facebook-post.png
END:VEVENT
BEGIN:VEVENT
DTSTART;TZID=America/Chicago:20230808T170000
DTEND;TZID=America/Chicago:20230808T170000
DTSTAMP:20260421T004420
CREATED:20221230T161259Z
LAST-MODIFIED:20221230T161259Z
UID:4268-1691514000-1691514000@www.joliettownship.net
SUMMARY:Town Board Meeting
DESCRIPTION:The regular scheduled town board meetings for Joliet Township Government are held at 5:00 p.m. in the town hall meeting room\, Joliet Township Government Offices\, 175 W. Jefferson Street\, Joliet\, Illinois.
URL:https://www.joliettownship.net/event/town-board-meeting-8/
LOCATION:Joliet Township\, 175 W Jefferson St.\, Joliet\, IL\, 60432\, United States
CATEGORIES:Board Meeting
ATTACH;FMTTYPE=image/jpeg:https://www.joliettownship.net/wp-content/uploads/2022/12/town-hall.jpg
END:VEVENT
BEGIN:VEVENT
DTSTART;TZID=America/Chicago:20230801T183000
DTEND;TZID=America/Chicago:20230801T210000
DTSTAMP:20260421T004420
CREATED:20230720T181832Z
LAST-MODIFIED:20230728T163135Z
UID:5044-1690914600-1690923600@www.joliettownship.net
SUMMARY:Dog Day at Duly
DESCRIPTION:Join us on August 1st to enjoy a Slammer’s game with your pet! \nWHERE: 1 Mayor Art Shultz Drive\, Joliet\, IL 60432 (Joliet Slammer’s Stadium) \nAll pets are welcome as long as they are on a leash or in a carrier. Also\, please consider being a sponsor to help raise funds for our shelter animal enrichment! \nJoliet Animal Control Supporter Package\, $100.00. \nPlease pay through the JTAC PayPal account- https://www.paypal.com/donate/?hosted_button_id=SZ4UCNZBB2VSA \nJoliet Animal Control Supporter Package Benefits: \n\nA picture of your pet gets displayed as a sponsor on the Jumbotron on the day of the event.\n4 tickets to the game\nYour pet’s picture gets posted on the Animal Control website.\n\nOr if you would like to buy tickets and support Animal Control you can buy tickets using the link below\, make sure to use the code: PAW \nhttps://www.ticketreturn.com/prod2/buy.asp?EventID=335524&promocode=PAW
URL:https://www.joliettownship.net/event/dog-day-at-duly/
ATTACH;FMTTYPE=image/jpeg:https://www.joliettownship.net/wp-content/uploads/2023/07/363350886_672838321554389_8405701199320924463_n.jpg
END:VEVENT
BEGIN:VEVENT
DTSTART;TZID=America/Chicago:20230711T170000
DTEND;TZID=America/Chicago:20230711T170000
DTSTAMP:20260421T004420
CREATED:20221230T161056Z
LAST-MODIFIED:20221230T161056Z
UID:4266-1689094800-1689094800@www.joliettownship.net
SUMMARY:Town Board Meeting
DESCRIPTION:The regular scheduled town board meetings for Joliet Township Government are held at 5:00 p.m. in the town hall meeting room\, Joliet Township Government Offices\, 175 W. Jefferson Street\, Joliet\, Illinois.
URL:https://www.joliettownship.net/event/town-board-meeting-7/
LOCATION:Joliet Township\, 175 W Jefferson St.\, Joliet\, IL\, 60432\, United States
CATEGORIES:Board Meeting
ATTACH;FMTTYPE=image/jpeg:https://www.joliettownship.net/wp-content/uploads/2022/12/town-hall.jpg
END:VEVENT
BEGIN:VEVENT
DTSTART;VALUE=DATE:20230704
DTEND;VALUE=DATE:20230705
DTSTAMP:20260421T004420
CREATED:20221230T164437Z
LAST-MODIFIED:20221230T164437Z
UID:4291-1688428800-1688515199@www.joliettownship.net
SUMMARY:Holiday Closing
DESCRIPTION:Independence Day                                                   \nTuesday\, July 4\, 2023          
URL:https://www.joliettownship.net/event/holiday-closing-7/
CATEGORIES:Holiday
ATTACH;FMTTYPE=image/png:https://www.joliettownship.net/wp-content/uploads/2022/12/elegant-blue-islamic-ornament-announcement-closed-store-facebook-post.png
END:VEVENT
BEGIN:VEVENT
DTSTART;VALUE=DATE:20230619
DTEND;VALUE=DATE:20230620
DTSTAMP:20260421T004420
CREATED:20221230T164359Z
LAST-MODIFIED:20221230T164359Z
UID:4289-1687132800-1687219199@www.joliettownship.net
SUMMARY:Holiday Closing
DESCRIPTION:Juneteenth                                                  \nMonday\, June 19\, 2023
URL:https://www.joliettownship.net/event/holiday-closing-6/
CATEGORIES:Holiday
ATTACH;FMTTYPE=image/png:https://www.joliettownship.net/wp-content/uploads/2022/12/elegant-blue-islamic-ornament-announcement-closed-store-facebook-post.png
END:VEVENT
BEGIN:VEVENT
DTSTART;TZID=America/Chicago:20230613T170000
DTEND;TZID=America/Chicago:20230613T170000
DTSTAMP:20260421T004420
CREATED:20221230T160957Z
LAST-MODIFIED:20221230T160957Z
UID:4264-1686675600-1686675600@www.joliettownship.net
SUMMARY:Town Board Meeting
DESCRIPTION:The regular scheduled town board meetings for Joliet Township Government are held at 5:00 p.m. in the town hall meeting room\, Joliet Township Government Offices\, 175 W. Jefferson Street\, Joliet\, Illinois.
URL:https://www.joliettownship.net/event/town-board-meeting-6/
LOCATION:Joliet Township\, 175 W Jefferson St.\, Joliet\, IL\, 60432\, United States
CATEGORIES:Board Meeting
ATTACH;FMTTYPE=image/jpeg:https://www.joliettownship.net/wp-content/uploads/2022/12/town-hall.jpg
END:VEVENT
BEGIN:VEVENT
DTSTART;VALUE=DATE:20230529
DTEND;VALUE=DATE:20230530
DTSTAMP:20260421T004420
CREATED:20221230T164249Z
LAST-MODIFIED:20221230T164249Z
UID:4287-1685318400-1685404799@www.joliettownship.net
SUMMARY:Holiday Closing
DESCRIPTION:Memorial Day                                                                \nMonday\, May 29\, 2023
URL:https://www.joliettownship.net/event/holiday-closing-5/
CATEGORIES:Holiday
ATTACH;FMTTYPE=image/png:https://www.joliettownship.net/wp-content/uploads/2022/12/elegant-blue-islamic-ornament-announcement-closed-store-facebook-post.png
END:VEVENT
BEGIN:VEVENT
DTSTART;VALUE=DATE:20230526
DTEND;VALUE=DATE:20230527
DTSTAMP:20260421T004420
CREATED:20230428T193718Z
LAST-MODIFIED:20230428T193914Z
UID:4764-1685059200-1685145599@www.joliettownship.net
SUMMARY:Veteran Luncheon
DESCRIPTION:Township Senior Group Veteran Luncheon \nFor more information call Jeff Wallace at 815-263-449.
URL:https://www.joliettownship.net/event/veteran-luncheon/
ATTACH;FMTTYPE=image/png:https://www.joliettownship.net/wp-content/uploads/2023/04/Memorial-Day-Card-Landscape.png
END:VEVENT
BEGIN:VEVENT
DTSTART;TZID=America/Chicago:20230509T170000
DTEND;TZID=America/Chicago:20230509T170000
DTSTAMP:20260421T004420
CREATED:20221230T160910Z
LAST-MODIFIED:20221230T160910Z
UID:4262-1683651600-1683651600@www.joliettownship.net
SUMMARY:Town Board Meeting
DESCRIPTION:The regular scheduled town board meetings for Joliet Township Government are held at 5:00 p.m. in the town hall meeting room\, Joliet Township Government Offices\, 175 W. Jefferson Street\, Joliet\, Illinois.
URL:https://www.joliettownship.net/event/town-board-meeting-5/
LOCATION:Joliet Township\, 175 W Jefferson St.\, Joliet\, IL\, 60432\, United States
CATEGORIES:Board Meeting
ATTACH;FMTTYPE=image/jpeg:https://www.joliettownship.net/wp-content/uploads/2022/12/town-hall.jpg
END:VEVENT
BEGIN:VEVENT
DTSTART;TZID=America/Chicago:20230411T170000
DTEND;TZID=America/Chicago:20230411T170000
DTSTAMP:20260421T004420
CREATED:20221230T160816Z
LAST-MODIFIED:20221230T160816Z
UID:4260-1681232400-1681232400@www.joliettownship.net
SUMMARY:Town Board Meeting
DESCRIPTION:The regular scheduled town board meetings for Joliet Township Government are held at 5:00 p.m. in the town hall meeting room\, Joliet Township Government Offices\, 175 W. Jefferson Street\, Joliet\, Illinois.
URL:https://www.joliettownship.net/event/town-board-meeting-4/
LOCATION:Joliet Township\, 175 W Jefferson St.\, Joliet\, IL\, 60432\, United States
CATEGORIES:Board Meeting
ATTACH;FMTTYPE=image/jpeg:https://www.joliettownship.net/wp-content/uploads/2022/12/town-hall.jpg
END:VEVENT
BEGIN:VEVENT
DTSTART;VALUE=DATE:20230407
DTEND;VALUE=DATE:20230408
DTSTAMP:20260421T004420
CREATED:20221230T164158Z
LAST-MODIFIED:20221230T164158Z
UID:4285-1680825600-1680911999@www.joliettownship.net
SUMMARY:Holiday Closing
DESCRIPTION:Good Friday                                                                  \n Friday\, April 7\, 2023
URL:https://www.joliettownship.net/event/holiday-closing-4/
CATEGORIES:Holiday
ATTACH;FMTTYPE=image/png:https://www.joliettownship.net/wp-content/uploads/2022/12/elegant-blue-islamic-ornament-announcement-closed-store-facebook-post.png
END:VEVENT
BEGIN:VEVENT
DTSTART;TZID=America/Chicago:20230314T170000
DTEND;TZID=America/Chicago:20230314T170000
DTSTAMP:20260421T004420
CREATED:20221230T160721Z
LAST-MODIFIED:20221230T160721Z
UID:4258-1678813200-1678813200@www.joliettownship.net
SUMMARY:Town Board Meeting
DESCRIPTION:The regular scheduled town board meetings for Joliet Township Government are held at 5:00 p.m. in the town hall meeting room\, Joliet Township Government Offices\, 175 W. Jefferson Street\, Joliet\, Illinois.
URL:https://www.joliettownship.net/event/town-board-meeting-3/
LOCATION:Joliet Township\, 175 W Jefferson St.\, Joliet\, IL\, 60432\, United States
CATEGORIES:Board Meeting
ATTACH;FMTTYPE=image/jpeg:https://www.joliettownship.net/wp-content/uploads/2022/12/town-hall.jpg
END:VEVENT
BEGIN:VEVENT
DTSTART;VALUE=DATE:20230220
DTEND;VALUE=DATE:20230221
DTSTAMP:20260421T004420
CREATED:20221230T164112Z
LAST-MODIFIED:20221230T164112Z
UID:4283-1676851200-1676937599@www.joliettownship.net
SUMMARY:Holiday Closing
DESCRIPTION:Presidents Day                                                            \nMonday\, February 20\, 2023
URL:https://www.joliettownship.net/event/holiday-closing-3/
CATEGORIES:Holiday
ATTACH;FMTTYPE=image/png:https://www.joliettownship.net/wp-content/uploads/2022/12/elegant-blue-islamic-ornament-announcement-closed-store-facebook-post.png
END:VEVENT
BEGIN:VEVENT
DTSTART;TZID=America/Chicago:20230214T170000
DTEND;TZID=America/Chicago:20230214T170000
DTSTAMP:20260421T004420
CREATED:20221230T160616Z
LAST-MODIFIED:20221230T160616Z
UID:4256-1676394000-1676394000@www.joliettownship.net
SUMMARY:Town Board Meeting
DESCRIPTION:The regular scheduled town board meetings for Joliet Township Government are held at 5:00 p.m. in the town hall meeting room\, Joliet Township Government Offices\, 175 W. Jefferson Street\, Joliet\, Illinois.
URL:https://www.joliettownship.net/event/town-board-meeting-2/
LOCATION:Joliet Township\, 175 W Jefferson St.\, Joliet\, IL\, 60432\, United States
CATEGORIES:Board Meeting
ATTACH;FMTTYPE=image/jpeg:https://www.joliettownship.net/wp-content/uploads/2022/12/town-hall.jpg
END:VEVENT
BEGIN:VEVENT
DTSTART;TZID=America/Chicago:20230118T090000
DTEND;TZID=America/Chicago:20230118T150000
DTSTAMP:20260421T004420
CREATED:20221230T192921Z
LAST-MODIFIED:20221230T192921Z
UID:4325-1674032400-1674054000@www.joliettownship.net
SUMMARY:LIHEAP
DESCRIPTION:Find support to cover the high cost of utilities including water\, gas\, and electricity through LIHEAP.\nBring the following documents: \n\nIdentification\nSocial Security Card/ITINS for all household members\nCurrent Utility Bills of Electric\, Gas\, Water\n\n(Present all three services ) \n\nProof of Gross Income for past 30 days for all household members\n\nPay stubs for current employment\nIDES Unemployment Letter/UI Findings\nLetter of DHS Benefits\n\n\nAdditional documents can be requested at the time of application
URL:https://www.joliettownship.net/event/liheap/
LOCATION:Joliet Township\, 175 W Jefferson St.\, Joliet\, IL\, 60432\, United States
CATEGORIES:Program Assistance
ATTACH;FMTTYPE=image/png:https://www.joliettownship.net/wp-content/uploads/2022/12/LIHEAP-Team.png
END:VEVENT
BEGIN:VEVENT
DTSTART;VALUE=DATE:20230116
DTEND;VALUE=DATE:20230117
DTSTAMP:20260421T004420
CREATED:20221230T163957Z
LAST-MODIFIED:20221230T163957Z
UID:4281-1673827200-1673913599@www.joliettownship.net
SUMMARY:Holiday Closing
DESCRIPTION:Martin Luther King\, Jr. Day                                    \nMonday\, January 16\, 2023
URL:https://www.joliettownship.net/event/holiday-closing-2/
CATEGORIES:Holiday
ATTACH;FMTTYPE=image/png:https://www.joliettownship.net/wp-content/uploads/2022/12/elegant-blue-islamic-ornament-announcement-closed-store-facebook-post.png
END:VEVENT
BEGIN:VEVENT
DTSTART;TZID=America/Chicago:20230110T170000
DTEND;TZID=America/Chicago:20230110T170000
DTSTAMP:20260421T004420
CREATED:20221230T160230Z
LAST-MODIFIED:20221230T160314Z
UID:4250-1673370000-1673370000@www.joliettownship.net
SUMMARY:Town Board Meeting
DESCRIPTION:The regular scheduled town board meetings for Joliet Township Government are held at 5:00 p.m. in the town hall meeting room\, Joliet Township Government Offices\, 175 W. Jefferson Street\, Joliet\, Illinois.
URL:https://www.joliettownship.net/event/town-board-meeting/
LOCATION:Joliet Township\, 175 W Jefferson St.\, Joliet\, IL\, 60432\, United States
CATEGORIES:Board Meeting
ATTACH;FMTTYPE=image/jpeg:https://www.joliettownship.net/wp-content/uploads/2022/12/town-hall.jpg
END:VEVENT
BEGIN:VEVENT
DTSTART;TZID=America/Chicago:20230109T090000
DTEND;TZID=America/Chicago:20230109T170000
DTSTAMP:20260421T004420
CREATED:20230109T153607Z
LAST-MODIFIED:20230109T153607Z
UID:4389-1673254800-1673283600@www.joliettownship.net
SUMMARY:ACA Open Enrollment
DESCRIPTION:TODAY\, the Will County Health Department is assisting residents with Open Enrollment Benefits at our offices. No appointment is needed! Remember enrollment for marketplace ends Jan.15th!\nWhere: 175 W Jefferson St. Joliet\, IL 60432\nWhen: Today- 9 AM to 5 PM\n\n\n(ESP) HOY el Departamento de Salud del Condado de Will está en nuestras oficinas ayudando con la inscripción de beneficios de salud. ¡No necesita tener cita previa! Recuerde que tiene hasta el 15 de enero para solicitar su seguro de salud.\nDonde: 175 W Jefferson St. Joliet\, IL 60432\nCuando: Hoy- 9 AM a 5 PM
URL:https://www.joliettownship.net/event/aca-open-enrollment/
LOCATION:Joliet Township\, 175 W Jefferson St.\, Joliet\, IL\, 60432\, United States
ATTACH;FMTTYPE=image/jpeg:https://www.joliettownship.net/wp-content/uploads/2023/01/323642172_860347975243660_7178663160685259602_n.jpg
END:VEVENT
BEGIN:VEVENT
DTSTART;VALUE=DATE:20230102
DTEND;VALUE=DATE:20230103
DTSTAMP:20260421T004420
CREATED:20221230T163846Z
LAST-MODIFIED:20221230T163846Z
UID:4278-1672617600-1672703999@www.joliettownship.net
SUMMARY:Holiday Closing
DESCRIPTION:New Year’s Day \nMonday\, January 2\, 2023 (observed)
URL:https://www.joliettownship.net/event/holiday-closing/
CATEGORIES:Holiday
ATTACH;FMTTYPE=image/png:https://www.joliettownship.net/wp-content/uploads/2022/12/elegant-blue-islamic-ornament-announcement-closed-store-facebook-post.png
END:VEVENT
BEGIN:VEVENT
DTSTART;VALUE=DATE:20221110
DTEND;VALUE=DATE:20221111
DTSTAMP:20260421T004420
CREATED:20221230T164721Z
LAST-MODIFIED:20221230T164721Z
UID:4297-1668038400-1668124799@www.joliettownship.net
SUMMARY:Holiday Closing
DESCRIPTION:Veterans Day                                                                 \nFriday\, November 10\, 2023 (observed)
URL:https://www.joliettownship.net/event/holiday-closing-10/
CATEGORIES:Holiday
ATTACH;FMTTYPE=image/png:https://www.joliettownship.net/wp-content/uploads/2022/12/elegant-blue-islamic-ornament-announcement-closed-store-facebook-post.png
END:VEVENT
END:VCALENDAR