BEGIN:VCALENDAR
VERSION:2.0
PRODID:-//Joliet Township - ECPv6.15.20//NONSGML v1.0//EN
CALSCALE:GREGORIAN
METHOD:PUBLISH
X-ORIGINAL-URL:https://www.joliettownship.net
X-WR-CALDESC:Events for Joliet Township
REFRESH-INTERVAL;VALUE=DURATION:PT1H
X-Robots-Tag:noindex
X-PUBLISHED-TTL:PT1H
BEGIN:VTIMEZONE
TZID:America/Chicago
BEGIN:DAYLIGHT
TZOFFSETFROM:-0600
TZOFFSETTO:-0500
TZNAME:CDT
DTSTART:20250309T080000
END:DAYLIGHT
BEGIN:STANDARD
TZOFFSETFROM:-0500
TZOFFSETTO:-0600
TZNAME:CST
DTSTART:20251102T070000
END:STANDARD
BEGIN:DAYLIGHT
TZOFFSETFROM:-0600
TZOFFSETTO:-0500
TZNAME:CDT
DTSTART:20260308T080000
END:DAYLIGHT
BEGIN:STANDARD
TZOFFSETFROM:-0500
TZOFFSETTO:-0600
TZNAME:CST
DTSTART:20261101T070000
END:STANDARD
BEGIN:DAYLIGHT
TZOFFSETFROM:-0600
TZOFFSETTO:-0500
TZNAME:CDT
DTSTART:20270314T080000
END:DAYLIGHT
BEGIN:STANDARD
TZOFFSETFROM:-0500
TZOFFSETTO:-0600
TZNAME:CST
DTSTART:20271107T070000
END:STANDARD
BEGIN:DAYLIGHT
TZOFFSETFROM:-0600
TZOFFSETTO:-0500
TZNAME:CDT
DTSTART:20280312T080000
END:DAYLIGHT
BEGIN:STANDARD
TZOFFSETFROM:-0500
TZOFFSETTO:-0600
TZNAME:CST
DTSTART:20281105T070000
END:STANDARD
END:VTIMEZONE
BEGIN:VEVENT
DTSTART;VALUE=DATE:20261231
DTEND;VALUE=DATE:20270102
DTSTAMP:20260420T180113
CREATED:20260114T152319Z
LAST-MODIFIED:20260114T152319Z
UID:11887-1798675200-1798847999@www.joliettownship.net
SUMMARY:Office Closed: New Year's Eve 2026 & New Year's Day 2027
DESCRIPTION:Our offices will be closed for New Year’s Eve on Wednesday\, December 31\, 2026 and for New Year’s Day on January 1\, 2027. We will return to the office on Friday\, January 2\, 2027 at 8:30 am.\n\n\nThe Township Holiday Calendars can be found at https://www.joliettownship.net/public-info/agenda-minutes/\n—\nNuestras oficinas estarán cerradas por la Día de Nochevieja el miércoles\, 31 de diciembre del 2026\, y por el Día de Año Nuevo el jueves\, 1 de enero del 2027. Volveremos el viernes\, 2 de enero del 2027 a las 8:30 am.\n\n\nLos calendarios completo de los días feriados del municipio están disponibles en https://www.joliettownship.net/public-info/agenda-minutes/
URL:https://www.joliettownship.net/event/office-closed-new-years-eve-2026-new-years-day-2027/
LOCATION:IL
ATTACH;FMTTYPE=image/png:https://www.joliettownship.net/wp-content/uploads/2024/07/Closed-graphic-1-1.png
END:VEVENT
END:VCALENDAR