BEGIN:VCALENDAR
VERSION:2.0
PRODID:-//Joliet Township - ECPv6.15.20//NONSGML v1.0//EN
CALSCALE:GREGORIAN
METHOD:PUBLISH
X-WR-CALNAME:Joliet Township
X-ORIGINAL-URL:https://www.joliettownship.net
X-WR-CALDESC:Events for Joliet Township
REFRESH-INTERVAL;VALUE=DURATION:PT1H
X-Robots-Tag:noindex
X-PUBLISHED-TTL:PT1H
BEGIN:VTIMEZONE
TZID:America/Chicago
BEGIN:DAYLIGHT
TZOFFSETFROM:-0600
TZOFFSETTO:-0500
TZNAME:CDT
DTSTART:20210314T080000
END:DAYLIGHT
BEGIN:STANDARD
TZOFFSETFROM:-0500
TZOFFSETTO:-0600
TZNAME:CST
DTSTART:20211107T070000
END:STANDARD
BEGIN:DAYLIGHT
TZOFFSETFROM:-0600
TZOFFSETTO:-0500
TZNAME:CDT
DTSTART:20220313T080000
END:DAYLIGHT
BEGIN:STANDARD
TZOFFSETFROM:-0500
TZOFFSETTO:-0600
TZNAME:CST
DTSTART:20221106T070000
END:STANDARD
BEGIN:DAYLIGHT
TZOFFSETFROM:-0600
TZOFFSETTO:-0500
TZNAME:CDT
DTSTART:20230312T080000
END:DAYLIGHT
BEGIN:STANDARD
TZOFFSETFROM:-0500
TZOFFSETTO:-0600
TZNAME:CST
DTSTART:20231105T070000
END:STANDARD
BEGIN:DAYLIGHT
TZOFFSETFROM:-0600
TZOFFSETTO:-0500
TZNAME:CDT
DTSTART:20240310T080000
END:DAYLIGHT
BEGIN:STANDARD
TZOFFSETFROM:-0500
TZOFFSETTO:-0600
TZNAME:CST
DTSTART:20241103T070000
END:STANDARD
BEGIN:DAYLIGHT
TZOFFSETFROM:-0600
TZOFFSETTO:-0500
TZNAME:CDT
DTSTART:20250309T080000
END:DAYLIGHT
BEGIN:STANDARD
TZOFFSETFROM:-0500
TZOFFSETTO:-0600
TZNAME:CST
DTSTART:20251102T070000
END:STANDARD
END:VTIMEZONE
BEGIN:VEVENT
DTSTART;VALUE=DATE:20241224
DTEND;VALUE=DATE:20241226
DTSTAMP:20260422T002153
CREATED:20240701T164435Z
LAST-MODIFIED:20241011T141655Z
UID:7575-1734998400-1735171199@www.joliettownship.net
SUMMARY:Office Closed - Christmas Eve and Day 2024
DESCRIPTION:Our offices will be closed this Christmas Eve and Day\, Tuesday\, December 24\, 2024 and Wednesday\, December 25\, 2024. We will return to the office on Thursday\, December 26th at 8:30 am.\n\n\nThe full 2024 Township Holiday Calendar can be found at https://www.joliettownship.net/public-info/agenda-minutes/\n—\n(ESP) Nuestras oficinas permanecerán cerradas esta Nochebuena y el día de Navidad\, martes\, 24 de diciembre de 2024 y miércoles\, 25 de diciembre de 2024. Volveremos a la oficina el jueves 26 de diciembre a las 8:30 am.\n\n\nEl calendario completo de los días feriados del municipio en 2024 está disponible en https://www.joliettownship.net/public-info/agenda-minutes/
URL:https://www.joliettownship.net/event/office-closed-christmas-eve-and-day-2024/
CATEGORIES:Holiday
ATTACH;FMTTYPE=image/png:https://www.joliettownship.net/wp-content/uploads/2024/07/Closed-graphic-1-1.png
END:VEVENT
BEGIN:VEVENT
DTSTART;VALUE=DATE:20241128
DTEND;VALUE=DATE:20241130
DTSTAMP:20260422T002153
CREATED:20240701T163931Z
LAST-MODIFIED:20241011T141627Z
UID:7573-1732752000-1732924799@www.joliettownship.net
SUMMARY:Office Closed - Thanksgiving Holiday 2024
DESCRIPTION:Our offices will be closed this Thanksgiving Holiday\, Thursday\, November 28\, 2024 and Friday\, November 29\, 2024. We will return to the office on Monday\, December 2nd at 8:30 am.\n\n\nThe full 2024 Township Holiday Calendar can be found at https://www.joliettownship.net/public-info/agenda-minutes/\n—\n(ESP) Nuestras oficinas permanecerán cerradas durante las vacaciones de Acción de Gracias\, el jueves 28 de noviembre de 2024 y el viernes 29 de noviembre de 2024. Volveremos a la oficina el lunes\, 2 de diciembre a las 8:30 am.\n\n\nEl calendario completo de los días feriados del municipio en 2024 está disponible en https://www.joliettownship.net/public-info/agenda-minutes/
URL:https://www.joliettownship.net/event/office-closed-thanksgiving-holiday-2024/
CATEGORIES:Holiday
ATTACH;FMTTYPE=image/png:https://www.joliettownship.net/wp-content/uploads/2024/07/Closed-graphic-1-1.png
END:VEVENT
BEGIN:VEVENT
DTSTART;VALUE=DATE:20241111
DTEND;VALUE=DATE:20241112
DTSTAMP:20260422T002153
CREATED:20240701T163623Z
LAST-MODIFIED:20241011T141721Z
UID:7571-1731283200-1731369599@www.joliettownship.net
SUMMARY:Office Closed - Veterans Day 2024
DESCRIPTION:Our offices will be closed this Veterans Day\, Monday\, November 11\, 2024. We will return to the office on Tuesday\, November 12th at 8:30 am.\n\n\nThe full 2024 Township Holiday Calendar can be found at https://www.joliettownship.net/public-info/agenda-minutes/\n—\n(ESP) Nuestras oficinas estarán cerradas este Día de los Veteranos\, el lunes 11 de noviembre. Volveremos el miércoles 12 de noviembre a las 8:30 am.\n\n\nEl calendario completo de los días feriados del municipio en 2024 está disponible en https://www.joliettownship.net/public-info/agenda-minutes/
URL:https://www.joliettownship.net/event/office-closed-veterans-day-2024/
CATEGORIES:Holiday
ATTACH;FMTTYPE=image/png:https://www.joliettownship.net/wp-content/uploads/2024/07/Closed-graphic-1-1.png
END:VEVENT
BEGIN:VEVENT
DTSTART;VALUE=DATE:20241105
DTEND;VALUE=DATE:20241106
DTSTAMP:20260422T002153
CREATED:20240701T163432Z
LAST-MODIFIED:20241011T141747Z
UID:7569-1730764800-1730851199@www.joliettownship.net
SUMMARY:Office Closed - Election Day 2024
DESCRIPTION:Our offices will be closed this Election Day\, Tuesday\, November 5\, 2024. We will return to the office on Wednesday\, November 6th at 8:30 am.\n\n\nThe full 2024 Township Holiday Calendar can be found at https://www.joliettownship.net/public-info/agenda-minutes/\n—\n(ESP) Nuestras oficinas estarán cerradas este Día de las elecciones\, el martes 5 de noviembre. Volveremos el miércoles 6 de noviembre a las 8:30 am.\n\n\nEl calendario completo de los días feriados del municipio en 2024 está disponible en https://www.joliettownship.net/public-info/agenda-minutes/
URL:https://www.joliettownship.net/event/office-closed-election-day-2024/
CATEGORIES:Holiday
ATTACH;FMTTYPE=image/png:https://www.joliettownship.net/wp-content/uploads/2024/07/Closed-graphic-1-1.png
END:VEVENT
BEGIN:VEVENT
DTSTART;VALUE=DATE:20241014
DTEND;VALUE=DATE:20241015
DTSTAMP:20260422T002153
CREATED:20240701T163137Z
LAST-MODIFIED:20241010T154113Z
UID:7567-1728864000-1728950399@www.joliettownship.net
SUMMARY:Office Closed - Indigenous People's Day/Columbus Day 2024
DESCRIPTION:Our offices will be closed this Indigenous People’s Day/Columbus Day\, Monday\, October 14\, 2024. We will return to the office on Tuesday\, October 15th at 8:30 am.\n\n\nThe full 2024 Township Holiday Calendar can be found at https://www.joliettownship.net/public-info/agenda-minutes/\n—\n(ESP) Nuestras oficinas estarán cerradas este Día de los Pueblos Indígenas/Día de Colón\, el lunes 14 de octubre. Volveremos el martes 15 de octubre a las 8:30 am.\n\n\nEl calendario completo de los días feriados del municipio en 2024 está disponible en https://www.joliettownship.net/public-info/agenda-minutes/
URL:https://www.joliettownship.net/event/office-closed-indigenous-peoples-day-columbus-day-2024/
CATEGORIES:Holiday
ATTACH;FMTTYPE=image/png:https://www.joliettownship.net/wp-content/uploads/2024/07/Closed-graphic-1-1.png
END:VEVENT
BEGIN:VEVENT
DTSTART;VALUE=DATE:20240902
DTEND;VALUE=DATE:20240903
DTSTAMP:20260422T002153
CREATED:20240701T162722Z
LAST-MODIFIED:20241011T141832Z
UID:7565-1725235200-1725321599@www.joliettownship.net
SUMMARY:Office Closed - Labor Day 2024
DESCRIPTION:Our offices will be closed this Labor Day\, Monday\, September 2\, 2024. We will return to the office on Tuesday\, September 3 at 8:30 am.\n\n\nThe full 2024 Township Holiday Calendar can be found at https://www.joliettownship.net/public-info/agenda-minutes/\n—\n(ESP) Nuestras oficinas estarán cerradas este Día del Trabajo\, el lunes 2 de septiembre. Volveremos el martes\, 3 de septiembre a las 8:30 am.\n\n\nEl calendario completo de los días feriados del municipio en 2024 está disponible en https://www.joliettownship.net/public-info/agenda-minutes/
URL:https://www.joliettownship.net/event/office-closed-labor-day-2024/
CATEGORIES:Holiday
ATTACH;FMTTYPE=image/png:https://www.joliettownship.net/wp-content/uploads/2024/07/Closed-graphic-1-1.png
END:VEVENT
BEGIN:VEVENT
DTSTART;VALUE=DATE:20240704
DTEND;VALUE=DATE:20240705
DTSTAMP:20260422T002153
CREATED:20240701T162328Z
LAST-MODIFIED:20241011T141921Z
UID:7563-1720051200-1720137599@www.joliettownship.net
SUMMARY:Office Closed for Independence Day 2024
DESCRIPTION:Our offices will be closed this Independence Day\, Thursday\, 4th of July. We will return to the office on Friday\, July 5th at 8:30 am.\n\n\nThe full 2024 Township Holiday Calendar can be found at https://www.joliettownship.net/public-info/agenda-minutes/\n—\n(ESP) Nuestras oficinas estarán cerradas este Día de la Independencia\, el jueves 4 de julio 27. Volveremos el viernes 5 de julio a las 8:30 am.\n\n\nEl calendario completo de los días feriados del municipio en 2024 está disponible en https://www.joliettownship.net/public-info/agenda-minutes/
URL:https://www.joliettownship.net/event/office-closed-for-independence-day-2024/
CATEGORIES:Holiday
ATTACH;FMTTYPE=image/png:https://www.joliettownship.net/wp-content/uploads/2024/07/Closed-graphic-1-1.png
END:VEVENT
BEGIN:VEVENT
DTSTART;VALUE=DATE:20231225
DTEND;VALUE=DATE:20231227
DTSTAMP:20260422T002153
CREATED:20221230T164925Z
LAST-MODIFIED:20221230T164925Z
UID:4301-1703462400-1703635199@www.joliettownship.net
SUMMARY:Holiday Closing
DESCRIPTION:Christmas Eve and Day \nMonday\, December 25\, 2023 (observed)   \nTuesday\, December 26\, 2023 (observed)
URL:https://www.joliettownship.net/event/holiday-closing-12/
CATEGORIES:Holiday
ATTACH;FMTTYPE=image/png:https://www.joliettownship.net/wp-content/uploads/2022/12/elegant-blue-islamic-ornament-announcement-closed-store-facebook-post.png
END:VEVENT
BEGIN:VEVENT
DTSTART;VALUE=DATE:20231124
DTEND;VALUE=DATE:20231126
DTSTAMP:20260422T002153
CREATED:20221230T164840Z
LAST-MODIFIED:20221230T164840Z
UID:4299-1700784000-1700956799@www.joliettownship.net
SUMMARY:Holiday Closing
DESCRIPTION:Thanksgiving Holiday                                               \nThursday\, November 23\, 2023 \nFriday\, November 24\, 2023
URL:https://www.joliettownship.net/event/holiday-closing-11/
CATEGORIES:Holiday
ATTACH;FMTTYPE=image/png:https://www.joliettownship.net/wp-content/uploads/2022/12/elegant-blue-islamic-ornament-announcement-closed-store-facebook-post.png
END:VEVENT
BEGIN:VEVENT
DTSTART;VALUE=DATE:20231110
DTEND;VALUE=DATE:20231111
DTSTAMP:20260422T002153
CREATED:20221230T165318Z
LAST-MODIFIED:20221230T165318Z
UID:4303-1699574400-1699660799@www.joliettownship.net
SUMMARY:Holiday Closing
DESCRIPTION:Veterans Day                                                                 Friday\, November 10\, 2023 (observed)
URL:https://www.joliettownship.net/event/holiday-closing-13/
CATEGORIES:Holiday
ATTACH;FMTTYPE=image/png:https://www.joliettownship.net/wp-content/uploads/2022/12/elegant-blue-islamic-ornament-announcement-closed-store-facebook-post.png
END:VEVENT
BEGIN:VEVENT
DTSTART;VALUE=DATE:20231009
DTEND;VALUE=DATE:20231010
DTSTAMP:20260422T002153
CREATED:20221230T164616Z
LAST-MODIFIED:20221230T164616Z
UID:4295-1696809600-1696895999@www.joliettownship.net
SUMMARY:Holiday Closing
DESCRIPTION:Indigenous People’s/Columbus Day                    \nMonday\, October 9\, 2023
URL:https://www.joliettownship.net/event/holiday-closing-9/
CATEGORIES:Holiday
ATTACH;FMTTYPE=image/png:https://www.joliettownship.net/wp-content/uploads/2022/12/elegant-blue-islamic-ornament-announcement-closed-store-facebook-post.png
END:VEVENT
BEGIN:VEVENT
DTSTART;VALUE=DATE:20230904
DTEND;VALUE=DATE:20230905
DTSTAMP:20260422T002153
CREATED:20221230T164523Z
LAST-MODIFIED:20221230T164523Z
UID:4293-1693785600-1693871999@www.joliettownship.net
SUMMARY:Holiday Closing
DESCRIPTION:Labor Day \nMonday\, September 4\, 2023
URL:https://www.joliettownship.net/event/holiday-closing-8/
CATEGORIES:Holiday
ATTACH;FMTTYPE=image/png:https://www.joliettownship.net/wp-content/uploads/2022/12/elegant-blue-islamic-ornament-announcement-closed-store-facebook-post.png
END:VEVENT
BEGIN:VEVENT
DTSTART;VALUE=DATE:20230704
DTEND;VALUE=DATE:20230705
DTSTAMP:20260422T002153
CREATED:20221230T164437Z
LAST-MODIFIED:20221230T164437Z
UID:4291-1688428800-1688515199@www.joliettownship.net
SUMMARY:Holiday Closing
DESCRIPTION:Independence Day                                                   \nTuesday\, July 4\, 2023          
URL:https://www.joliettownship.net/event/holiday-closing-7/
CATEGORIES:Holiday
ATTACH;FMTTYPE=image/png:https://www.joliettownship.net/wp-content/uploads/2022/12/elegant-blue-islamic-ornament-announcement-closed-store-facebook-post.png
END:VEVENT
BEGIN:VEVENT
DTSTART;VALUE=DATE:20230619
DTEND;VALUE=DATE:20230620
DTSTAMP:20260422T002153
CREATED:20221230T164359Z
LAST-MODIFIED:20221230T164359Z
UID:4289-1687132800-1687219199@www.joliettownship.net
SUMMARY:Holiday Closing
DESCRIPTION:Juneteenth                                                  \nMonday\, June 19\, 2023
URL:https://www.joliettownship.net/event/holiday-closing-6/
CATEGORIES:Holiday
ATTACH;FMTTYPE=image/png:https://www.joliettownship.net/wp-content/uploads/2022/12/elegant-blue-islamic-ornament-announcement-closed-store-facebook-post.png
END:VEVENT
BEGIN:VEVENT
DTSTART;VALUE=DATE:20230529
DTEND;VALUE=DATE:20230530
DTSTAMP:20260422T002153
CREATED:20221230T164249Z
LAST-MODIFIED:20221230T164249Z
UID:4287-1685318400-1685404799@www.joliettownship.net
SUMMARY:Holiday Closing
DESCRIPTION:Memorial Day                                                                \nMonday\, May 29\, 2023
URL:https://www.joliettownship.net/event/holiday-closing-5/
CATEGORIES:Holiday
ATTACH;FMTTYPE=image/png:https://www.joliettownship.net/wp-content/uploads/2022/12/elegant-blue-islamic-ornament-announcement-closed-store-facebook-post.png
END:VEVENT
BEGIN:VEVENT
DTSTART;VALUE=DATE:20230407
DTEND;VALUE=DATE:20230408
DTSTAMP:20260422T002153
CREATED:20221230T164158Z
LAST-MODIFIED:20221230T164158Z
UID:4285-1680825600-1680911999@www.joliettownship.net
SUMMARY:Holiday Closing
DESCRIPTION:Good Friday                                                                  \n Friday\, April 7\, 2023
URL:https://www.joliettownship.net/event/holiday-closing-4/
CATEGORIES:Holiday
ATTACH;FMTTYPE=image/png:https://www.joliettownship.net/wp-content/uploads/2022/12/elegant-blue-islamic-ornament-announcement-closed-store-facebook-post.png
END:VEVENT
BEGIN:VEVENT
DTSTART;VALUE=DATE:20230220
DTEND;VALUE=DATE:20230221
DTSTAMP:20260422T002153
CREATED:20221230T164112Z
LAST-MODIFIED:20221230T164112Z
UID:4283-1676851200-1676937599@www.joliettownship.net
SUMMARY:Holiday Closing
DESCRIPTION:Presidents Day                                                            \nMonday\, February 20\, 2023
URL:https://www.joliettownship.net/event/holiday-closing-3/
CATEGORIES:Holiday
ATTACH;FMTTYPE=image/png:https://www.joliettownship.net/wp-content/uploads/2022/12/elegant-blue-islamic-ornament-announcement-closed-store-facebook-post.png
END:VEVENT
BEGIN:VEVENT
DTSTART;VALUE=DATE:20230116
DTEND;VALUE=DATE:20230117
DTSTAMP:20260422T002153
CREATED:20221230T163957Z
LAST-MODIFIED:20221230T163957Z
UID:4281-1673827200-1673913599@www.joliettownship.net
SUMMARY:Holiday Closing
DESCRIPTION:Martin Luther King\, Jr. Day                                    \nMonday\, January 16\, 2023
URL:https://www.joliettownship.net/event/holiday-closing-2/
CATEGORIES:Holiday
ATTACH;FMTTYPE=image/png:https://www.joliettownship.net/wp-content/uploads/2022/12/elegant-blue-islamic-ornament-announcement-closed-store-facebook-post.png
END:VEVENT
BEGIN:VEVENT
DTSTART;VALUE=DATE:20230102
DTEND;VALUE=DATE:20230103
DTSTAMP:20260422T002153
CREATED:20221230T163846Z
LAST-MODIFIED:20221230T163846Z
UID:4278-1672617600-1672703999@www.joliettownship.net
SUMMARY:Holiday Closing
DESCRIPTION:New Year’s Day \nMonday\, January 2\, 2023 (observed)
URL:https://www.joliettownship.net/event/holiday-closing/
CATEGORIES:Holiday
ATTACH;FMTTYPE=image/png:https://www.joliettownship.net/wp-content/uploads/2022/12/elegant-blue-islamic-ornament-announcement-closed-store-facebook-post.png
END:VEVENT
BEGIN:VEVENT
DTSTART;VALUE=DATE:20221110
DTEND;VALUE=DATE:20221111
DTSTAMP:20260422T002153
CREATED:20221230T164721Z
LAST-MODIFIED:20221230T164721Z
UID:4297-1668038400-1668124799@www.joliettownship.net
SUMMARY:Holiday Closing
DESCRIPTION:Veterans Day                                                                 \nFriday\, November 10\, 2023 (observed)
URL:https://www.joliettownship.net/event/holiday-closing-10/
CATEGORIES:Holiday
ATTACH;FMTTYPE=image/png:https://www.joliettownship.net/wp-content/uploads/2022/12/elegant-blue-islamic-ornament-announcement-closed-store-facebook-post.png
END:VEVENT
END:VCALENDAR