BEGIN:VCALENDAR
VERSION:2.0
PRODID:-//Joliet Township - ECPv6.15.20//NONSGML v1.0//EN
CALSCALE:GREGORIAN
METHOD:PUBLISH
X-WR-CALNAME:Joliet Township
X-ORIGINAL-URL:https://www.joliettownship.net
X-WR-CALDESC:Events for Joliet Township
REFRESH-INTERVAL;VALUE=DURATION:PT1H
X-Robots-Tag:noindex
X-PUBLISHED-TTL:PT1H
BEGIN:VTIMEZONE
TZID:America/Chicago
BEGIN:DAYLIGHT
TZOFFSETFROM:-0600
TZOFFSETTO:-0500
TZNAME:CDT
DTSTART:20250309T080000
END:DAYLIGHT
BEGIN:STANDARD
TZOFFSETFROM:-0500
TZOFFSETTO:-0600
TZNAME:CST
DTSTART:20251102T070000
END:STANDARD
BEGIN:DAYLIGHT
TZOFFSETFROM:-0600
TZOFFSETTO:-0500
TZNAME:CDT
DTSTART:20260308T080000
END:DAYLIGHT
BEGIN:STANDARD
TZOFFSETFROM:-0500
TZOFFSETTO:-0600
TZNAME:CST
DTSTART:20261101T070000
END:STANDARD
BEGIN:DAYLIGHT
TZOFFSETFROM:-0600
TZOFFSETTO:-0500
TZNAME:CDT
DTSTART:20270314T080000
END:DAYLIGHT
BEGIN:STANDARD
TZOFFSETFROM:-0500
TZOFFSETTO:-0600
TZNAME:CST
DTSTART:20271107T070000
END:STANDARD
END:VTIMEZONE
BEGIN:VEVENT
DTSTART;VALUE=DATE:20261224
DTEND;VALUE=DATE:20261226
DTSTAMP:20260420T120657
CREATED:20251216T192048Z
LAST-MODIFIED:20260114T151630Z
UID:11782-1798070400-1798243199@www.joliettownship.net
SUMMARY:Office Closed: Christmas Eve & Day 2026
DESCRIPTION:Our offices will be closed for Christmas Eve and Christmas Day on Thursday\, December 24\, 2026 and Friday\, November 27\, 2026. We will return to the office on Monday\, December 30\, 2026 at 8:30 am.\n\n\nThe full 2026 Township Holiday Calendar can be found at https://www.joliettownship.net/public-info/agenda-minutes/\n—\nNuestras oficinas estarán cerradas por el Día de Año Nuevo el jueves\, 1 de enero del 2026. Volveremos el viernes\, 2 de enero del 2026 a las 8:30 am.\n\n\nEl calendario completo de los días feriados del municipio en 2026 está disponible en https://www.joliettownship.net/public-info/agenda-minutes/
URL:https://www.joliettownship.net/event/office-closed-christmas-eve-day-2026/
LOCATION:Joliet Township\, 175 W Jefferson St.\, Joliet\, IL\, 60432\, United States
ATTACH;FMTTYPE=image/png:https://www.joliettownship.net/wp-content/uploads/2024/07/Closed-graphic-1-1.png
END:VEVENT
END:VCALENDAR