BEGIN:VCALENDAR
VERSION:2.0
PRODID:-//Joliet Township - ECPv6.15.20//NONSGML v1.0//EN
CALSCALE:GREGORIAN
METHOD:PUBLISH
X-ORIGINAL-URL:https://www.joliettownship.net
X-WR-CALDESC:Events for Joliet Township
REFRESH-INTERVAL;VALUE=DURATION:PT1H
X-Robots-Tag:noindex
X-PUBLISHED-TTL:PT1H
BEGIN:VTIMEZONE
TZID:America/Chicago
BEGIN:DAYLIGHT
TZOFFSETFROM:-0600
TZOFFSETTO:-0500
TZNAME:CDT
DTSTART:20250309T080000
END:DAYLIGHT
BEGIN:STANDARD
TZOFFSETFROM:-0500
TZOFFSETTO:-0600
TZNAME:CST
DTSTART:20251102T070000
END:STANDARD
BEGIN:DAYLIGHT
TZOFFSETFROM:-0600
TZOFFSETTO:-0500
TZNAME:CDT
DTSTART:20260308T080000
END:DAYLIGHT
BEGIN:STANDARD
TZOFFSETFROM:-0500
TZOFFSETTO:-0600
TZNAME:CST
DTSTART:20261101T070000
END:STANDARD
BEGIN:DAYLIGHT
TZOFFSETFROM:-0600
TZOFFSETTO:-0500
TZNAME:CDT
DTSTART:20270314T080000
END:DAYLIGHT
BEGIN:STANDARD
TZOFFSETFROM:-0500
TZOFFSETTO:-0600
TZNAME:CST
DTSTART:20271107T070000
END:STANDARD
END:VTIMEZONE
BEGIN:VEVENT
DTSTART;TZID=America/Chicago:20260715T090000
DTEND;TZID=America/Chicago:20260715T130000
DTSTAMP:20260420T051354
CREATED:20250919T164029Z
LAST-MODIFIED:20250919T164029Z
UID:11176-1784106000-1784120400@www.joliettownship.net
SUMMARY:LIHEAP July 2026
DESCRIPTION:Joliet Township Government will host Will County Center for Community Concerns (WCCCC) as they administer the Home Energy Assistance Program that helps income-eligible households with their utility bills and furnace assistance. Assistance is available to households whose 30 day gross income is at or below 60% of the state median income level. Assistance for utilities will be available from October 1\, 2025 through August 15\, 2026\, or until funds have been exhausted\, whichever comes first. \nApplications will be taken at Joliet Township Government\, located at 175 W. Jefferson Street\, Joliet\, IL 60432 on the following dates from 9am to 1pm: \n\nWednesday\, December 17\nWednesday\, January 21\nWednesday\, February 18\nWednesday\, March 18\nWednesday\, April 15\nWednesday\, May 20\nWednesday\, June 17\nWednesday\, July 15\n\nTo submit an application\, you bring ALL required documentation: \n\nSocial Security Card for everyone in the household\nID or Driver’s License\nIncome for all household members for the last 30 days from all sources\nAny Household member age 18 or older will need proof they are or are not receiving benefits from DHS (Public Aid) or IDES (Unemployment) if there is no proof of income provided\nGas and Electric bill issued within the last 30 days\nAll printouts from other agencies\, like Notice of decision packet from DHS\, Social Security\, TANF\, General Assistance\, Veterans Assistance\nMortgage statement and tax bill or Deed and tax bill\, if applying for Furnace assistance.\nOther documents may be needed based on your household situation\n\nTo contact Joliet Township Government\, please call us at (815) 726-4781\, email contact@joliettownship.net\, or visit us at 175 W. Jefferson Street\, Joliet\, IL 60432. \nIn addition\, applications are taken at various locations throughout the Will County area. For more information and the nearest location to apply for assistance\, please call Will County Center for Community Concerns at 815-722-0722 or visit www.wcccc.net. \n\nEl Municipio de Joliet recibirá al Centro para Asuntos Comunitarios del Condado de Will (WCCCC)\, que administra el Programa de Asistencia de Energía para el Hogar\, el cual ayuda a los hogares con ingresos elegibles a pagar sus facturas de servicios públicos y les brinda asistencia para la calefacción. La asistencia está disponible para los hogares cuyos ingresos totales de 30 días sean iguales o menos del 60% del nivel de ingresos medios del estado. La ayuda para los servicios públicos estará disponible desde el 1 de octubre de 2025 hasta el 15 de agosto de 2026\, o hasta que se agoten los fondos\, lo que ocurra primero. \nLas solicitudes se aceptarán en el Municipio de Joliet\, en 175 W. Jefferson Street\, Joliet\, IL 60432\, en las siguientes fechas\, de 9:00 AM a 1:00 PM: \n\nMiércoles\, 17 de diciembre\nMiércoles\, 21 de enero\nMiércoles\, 18 de febrero\nMiércoles\, 18 de marzo\nMiércoles\, 15 de abril\nMiércoles\, 20 de mayo\nMiércoles\, 17 de junio\nMiércoles\, 17 de julio\n\nPara presentar una solicitud\, DEBE traer TODA la documentación requerida: \n\nTarjeta de la Seguridad Social de todos los miembros del hogar.\nDocumento de identidad o licencia para manejar.\nIngresos de todos los miembros del hogar durante los últimos 30 días\, de todas las fuentes.\nCualquier miembro del hogar mayor de 18 años necesitará una prueba de que recibe o no recibe beneficios del DHS (Ayuda Pública) y del IDES (Desempleo) si no se proporciona una prueba de ingresos.\nFactura de gas y electricidad de los últimos 30 días.\nTodos los documentos de otras agencias\, como el paquete de notificación de decisión del DHS\, la Seguridad Social\, TANF\, Asistencia General\, Asistencia a Veteranos.\nDeclaración hipotecaria y factura de impuestos o Escritura y factura de impuestos\, si solicita asistencia para la calefacción.\nEs posible que se requieran otros documentos según la situación de su hogar.\n\nPara ponerse en contacto con el Gobierno del municipio de Joliet\, llámenos al (815) 726-4781\, envíenos un correo electrónico a contact@joliettownship.net o visítenos en 175 W. Jefferson Street\, Joliet\, IL 60432. \nAdemás\, se aceptan solicitudes en varios lugares del condado de Will. Para obtener más información y conocer el lugar más cercano donde solicitar asistencia\, llame al Centro de Asuntos Comunitarios del Condado de Will al 815-722-0722 o visite www.wcccc.net.
URL:https://www.joliettownship.net/event/liheap-july-2026/
LOCATION:Joliet Township\, 175 W Jefferson St.\, Joliet\, IL\, 60432\, United States
ATTACH;FMTTYPE=image/png:https://www.joliettownship.net/wp-content/uploads/2024/09/Gas-Electric-and-Furnace-Assistance-Asistencia-de-gas-electricidad-y-calefaccion.png
END:VEVENT
END:VCALENDAR