BEGIN:VCALENDAR
VERSION:2.0
PRODID:-//Joliet Township - ECPv6.15.20//NONSGML v1.0//EN
CALSCALE:GREGORIAN
METHOD:PUBLISH
X-ORIGINAL-URL:https://www.joliettownship.net
X-WR-CALDESC:Events for Joliet Township
REFRESH-INTERVAL;VALUE=DURATION:PT1H
X-Robots-Tag:noindex
X-PUBLISHED-TTL:PT1H
BEGIN:VTIMEZONE
TZID:America/Chicago
BEGIN:DAYLIGHT
TZOFFSETFROM:-0600
TZOFFSETTO:-0500
TZNAME:CDT
DTSTART:20240310T080000
END:DAYLIGHT
BEGIN:STANDARD
TZOFFSETFROM:-0500
TZOFFSETTO:-0600
TZNAME:CST
DTSTART:20241103T070000
END:STANDARD
BEGIN:DAYLIGHT
TZOFFSETFROM:-0600
TZOFFSETTO:-0500
TZNAME:CDT
DTSTART:20250309T080000
END:DAYLIGHT
BEGIN:STANDARD
TZOFFSETFROM:-0500
TZOFFSETTO:-0600
TZNAME:CST
DTSTART:20251102T070000
END:STANDARD
BEGIN:DAYLIGHT
TZOFFSETFROM:-0600
TZOFFSETTO:-0500
TZNAME:CDT
DTSTART:20260308T080000
END:DAYLIGHT
BEGIN:STANDARD
TZOFFSETFROM:-0500
TZOFFSETTO:-0600
TZNAME:CST
DTSTART:20261101T070000
END:STANDARD
END:VTIMEZONE
BEGIN:VEVENT
DTSTART;VALUE=DATE:20251127
DTEND;VALUE=DATE:20251129
DTSTAMP:20260420T045008
CREATED:20250109T174538Z
LAST-MODIFIED:20250109T174538Z
UID:9509-1764201600-1764374399@www.joliettownship.net
SUMMARY:Office Closed: Thanksgiving Holiday 2025
DESCRIPTION:Our offices will be closed for the Thanksgiving Holiday on Thursday\, November 27 and Friday November 28\, 2025. We will return to the office on Monday\, December 1\, 2025 at 8:30 am.\n\n\nThe full 2025 Township Holiday Calendar can be found at https://www.joliettownship.net/public-info/agenda-minutes/\n—\n(ESP) Nuestras oficinas estarán cerradas por vacaciones de acción de gracias\, el jueves\, 27 de noviembre y el viernes\, 28 de noviembre del 2025. Volveremos el lunes\, 1 de diciembre del 2025 a las 8:30 am.\n\n\nEl calendario completo de los días feriados del municipio en 2025 está disponible en https://www.joliettownship.net/public-info/agenda-minutes/
URL:https://www.joliettownship.net/event/office-closed-thanksgiving-holiday-2025/
LOCATION:IL
ATTACH;FMTTYPE=image/png:https://www.joliettownship.net/wp-content/uploads/2024/07/Closed-graphic-1-1.png
END:VEVENT
END:VCALENDAR